BEGIN:VCALENDAR
VERSION:2.0
PRODID:-//Tukios.com/
BEGIN:VEVENT
UID:32e3f530-a2a3-4829-a881-43805ccd6c95@www.mattinglyfuneralhome.com
DTSTAMP:20260425T014511Z
DTSTART:20260426T200000Z
DTEND:20260427T000000Z
SUMMARY:Visitation
DESCRIPTION:
URL:https://www.mattinglyfuneralhome.com/obituaries/frances-barlow
LOCATION:Mattingly Funeral Home 195 Holy Cross Rd  Loretto KY 40037
GEO:37.6387396;-85.4012063
END:VEVENT
END:VCALENDAR