BEGIN:VCALENDAR
VERSION:2.0
PRODID:-//Tukios.com/
BEGIN:VEVENT
UID:4d9e0a7e-cf56-48bc-9f47-8e62db3dade8@www.mattinglyfuneralhome.com
DTSTAMP:20260425T015006Z
DTSTART:20260427T150000Z
DTEND:20260427T160000Z
SUMMARY:Funeral Service
DESCRIPTION:
URL:https://www.mattinglyfuneralhome.com/obituaries/frances-barlow
LOCATION:Mattingly Funeral Home 195 Holy Cross Rd  Loretto KY 40037
GEO:37.6387396;-85.4012063
END:VEVENT
END:VCALENDAR