BEGIN:VCALENDAR
VERSION:2.0
PRODID:-//Tukios.com/
BEGIN:VEVENT
UID:0a4355a4-acd7-4e05-911d-22fdc0858b3d@www.mattinglyfuneralhome.com
DTSTAMP:20260425T014634Z
DTSTART:20260426T220000Z
DTEND:20260426T230000Z
SUMMARY:Prayer Service
DESCRIPTION:
URL:https://www.mattinglyfuneralhome.com/obituaries/frances-barlow
LOCATION:Mattingly Funeral Home 195 Holy Cross Rd  Loretto KY 40037
GEO:37.6387396;-85.4012063
END:VEVENT
END:VCALENDAR