BEGIN:VCALENDAR
VERSION:2.0
PRODID:-//Tukios.com/
BEGIN:VEVENT
UID:baaf29cd-02bb-43f4-841d-4e0ebc07dac6@www.mattinglyfuneralhome.com
DTSTAMP:20260423T210828Z
DTSTART:20260428T200000Z
DTEND:20260428T233000Z
SUMMARY:Visitation
DESCRIPTION:
URL:https://www.mattinglyfuneralhome.com/obituaries/james-tyler-downs
LOCATION:Mattingly Funeral Home 195 Holy Cross Rd  Loretto KY 40037
GEO:37.6387396;-85.4012063
END:VEVENT
END:VCALENDAR