BEGIN:VCALENDAR
VERSION:2.0
PRODID:-//Tukios.com/
BEGIN:VEVENT
UID:7378ad6b-8a15-439e-ba37-4d90e49b7e07@www.mattinglyfuneralhome.com
DTSTAMP:20260423T210955Z
DTSTART:20260428T233000Z
DTEND:20260429T003000Z
SUMMARY:Funeral Service
DESCRIPTION:
URL:https://www.mattinglyfuneralhome.com/obituaries/james-tyler-downs
LOCATION:Mattingly Funeral Home 195 Holy Cross Rd  Loretto KY 40037
GEO:37.6387396;-85.4012063
END:VEVENT
END:VCALENDAR